BEGIN:VCALENDAR
VERSION:2.0
PRODID:-//Ski Club de Beille - ECPv6.15.13//NONSGML v1.0//EN
CALSCALE:GREGORIAN
METHOD:PUBLISH
X-WR-CALNAME:Ski Club de Beille
X-ORIGINAL-URL:https://skiclubdebeille.com
X-WR-CALDESC:Évènements pour Ski Club de Beille
REFRESH-INTERVAL;VALUE=DURATION:PT1H
X-Robots-Tag:noindex
X-PUBLISHED-TTL:PT1H
BEGIN:VTIMEZONE
TZID:Europe/Paris
BEGIN:DAYLIGHT
TZOFFSETFROM:+0100
TZOFFSETTO:+0200
TZNAME:CEST
DTSTART:20230326T010000
END:DAYLIGHT
BEGIN:STANDARD
TZOFFSETFROM:+0200
TZOFFSETTO:+0100
TZNAME:CET
DTSTART:20231029T010000
END:STANDARD
BEGIN:DAYLIGHT
TZOFFSETFROM:+0100
TZOFFSETTO:+0200
TZNAME:CEST
DTSTART:20240331T010000
END:DAYLIGHT
BEGIN:STANDARD
TZOFFSETFROM:+0200
TZOFFSETTO:+0100
TZNAME:CET
DTSTART:20241027T010000
END:STANDARD
BEGIN:DAYLIGHT
TZOFFSETFROM:+0100
TZOFFSETTO:+0200
TZNAME:CEST
DTSTART:20250330T010000
END:DAYLIGHT
BEGIN:STANDARD
TZOFFSETFROM:+0200
TZOFFSETTO:+0100
TZNAME:CET
DTSTART:20251026T010000
END:STANDARD
END:VTIMEZONE
BEGIN:VEVENT
DTSTART;TZID=Europe/Paris:20240306T180000
DTEND;TZID=Europe/Paris:20240306T200000
DTSTAMP:20260423T235141
CREATED:20240302T161215Z
LAST-MODIFIED:20240302T161215Z
UID:4794-1709748000-1709755200@skiclubdebeille.com
SUMMARY:Réunion Ski Club
DESCRIPTION:Une réunion du Ski Club aura lieu le mercredi 6 mars 2024 à 18h à la salle des fêtes de la mairie des Cabannes \nOrdre du jour: \nPréparation « La Beilloise »
URL:https://skiclubdebeille.com/index.php/event/reunion-ski-club/
LOCATION:Salle des fêtes de Les Cabannes\, Place de Les Cabannes\, Les Cabannes\, 09310\, France
END:VEVENT
END:VCALENDAR