BEGIN:VCALENDAR
VERSION:2.0
PRODID:-//Ski Club de Beille - ECPv6.15.13//NONSGML v1.0//EN
CALSCALE:GREGORIAN
METHOD:PUBLISH
X-ORIGINAL-URL:https://skiclubdebeille.com
X-WR-CALDESC:Évènements pour Ski Club de Beille
REFRESH-INTERVAL;VALUE=DURATION:PT1H
X-Robots-Tag:noindex
X-PUBLISHED-TTL:PT1H
BEGIN:VTIMEZONE
TZID:Europe/Paris
BEGIN:DAYLIGHT
TZOFFSETFROM:+0100
TZOFFSETTO:+0200
TZNAME:CEST
DTSTART:20240331T010000
END:DAYLIGHT
BEGIN:STANDARD
TZOFFSETFROM:+0200
TZOFFSETTO:+0100
TZNAME:CET
DTSTART:20241027T010000
END:STANDARD
BEGIN:DAYLIGHT
TZOFFSETFROM:+0100
TZOFFSETTO:+0200
TZNAME:CEST
DTSTART:20250330T010000
END:DAYLIGHT
BEGIN:STANDARD
TZOFFSETFROM:+0200
TZOFFSETTO:+0100
TZNAME:CET
DTSTART:20251026T010000
END:STANDARD
BEGIN:DAYLIGHT
TZOFFSETFROM:+0100
TZOFFSETTO:+0200
TZNAME:CEST
DTSTART:20260329T010000
END:DAYLIGHT
BEGIN:STANDARD
TZOFFSETFROM:+0200
TZOFFSETTO:+0100
TZNAME:CET
DTSTART:20261025T010000
END:STANDARD
END:VTIMEZONE
BEGIN:VEVENT
DTSTART;TZID=Europe/Paris:20250217T080000
DTEND;TZID=Europe/Paris:20250221T170000
DTSTAMP:20260421T190123
CREATED:20240501T080307Z
LAST-MODIFIED:20240501T080307Z
UID:4843-1739779200-1740157200@skiclubdebeille.com
SUMMARY:Stage février
DESCRIPTION:
URL:https://skiclubdebeille.com/index.php/event/stage-fevrier-2/
LOCATION:Espace Nordique de Beille\, Plateau de Beille\, Les Cabannes\, 09310\, France
END:VEVENT
END:VCALENDAR